BEGIN:VCALENDAR
METHOD:PUBLISH
VERSION:2.0
CALSCALE:GREGORIAN
PRODID:-//NONSGML WPForms//NONSGML Sugar Calendar Feeds v3.11.0//EN
X-WR-CALNAME:Vortrag im Schützenheim mit Hellmut Volk
X-WR-CALDESC:PEN YANG®
X-WR-TIMEZONE:Europe/Berlin
BEGIN:VTIMEZONE
TZID:Europe/Berlin
BEGIN:STANDARD
TZOFFSETFROM:+0200
TZOFFSETTO:+0100
DTSTART:20221030T010000
TZNAME:CET
END:STANDARD
BEGIN:DAYLIGHT
TZOFFSETFROM:+0100
TZOFFSETTO:+0200
DTSTART:20230326T010000
TZNAME:CEST
END:DAYLIGHT
END:VTIMEZONE
BEGIN:VTIMEZONE
TZID:Europe/Berlin
BEGIN:STANDARD
TZOFFSETFROM:+0200
TZOFFSETTO:+0100
DTSTART:20221030T010000
TZNAME:CET
END:STANDARD
BEGIN:DAYLIGHT
TZOFFSETFROM:+0100
TZOFFSETTO:+0200
DTSTART:20230326T010000
TZNAME:CEST
END:DAYLIGHT
END:VTIMEZONE
BEGIN:VEVENT
SUMMARY:Vortrag im Schützenheim mit Hellmut Volk
DESCRIPTION:An diesem Tag ist der Erfinder der PEN-YANG Produkte\, Hellm
 ut Volk\, zu Gast im Schützenheim in Ottmaring-Friedberg.\n\n\n\nTelefo
 nische Anmeldung bei Frau Schwibinger unter: 0821/609499
URL;VALUE=URI:https://pen-yang.de/events/vortrag-im-schuetzenheim-mit-he
 llmut-volk/
UID:urn:uuid:c6b7cb87-8a2f-4d50-8ced-8f13a75f1c5f
STATUS:CONFIRMED
ORGANIZER:
DTSTAMP:20260423T085016Z
DTSTART;TZID=Europe/Berlin:20230415T133000
DTEND;TZID=Europe/Berlin:20230415T133000
LOCATION:Schützenheim\nHugolinstraße 4\n86316 Friedberg-Ottmaring
END:VEVENT
END:VCALENDAR